BEGIN:VCALENDAR
VERSION:2.0
PRODID:-//Toastmaster Bob Lloyd - ECPv4.5.12.3//NONSGML v1.0//EN
CALSCALE:GREGORIAN
METHOD:PUBLISH
X-WR-CALNAME:Toastmaster Bob Lloyd
X-ORIGINAL-URL:https://www.toastmasterbob.co.uk
X-WR-CALDESC:Events for Toastmaster Bob Lloyd
BEGIN:VEVENT
DTSTART;TZID=UTC+0:20220430T180000
DTEND;TZID=UTC+0:20220430T230000
DTSTAMP:20260422T165619
CREATED:20220106T205122Z
LAST-MODIFIED:20220106T205122Z
UID:8916-1651341600-1651359600@www.toastmasterbob.co.uk
SUMMARY:Black-tie Ball @ Church Manor Farm Wicklewood
DESCRIPTION:A black-tie Balll to launch Church Manor Farm as  wedding venue \n
URL:https://www.toastmasterbob.co.uk/event/black-tie-ball-church-manor-farm-wicklewood/
LOCATION:Church Lane\, Wymondham\, NR18 9QH
END:VEVENT
END:VCALENDAR