BEGIN:VCALENDAR
VERSION:2.0
PRODID:-//Toastmaster Bob Lloyd - ECPv4.5.12.3//NONSGML v1.0//EN
CALSCALE:GREGORIAN
METHOD:PUBLISH
X-WR-CALNAME:Toastmaster Bob Lloyd
X-ORIGINAL-URL:https://www.toastmasterbob.co.uk
X-WR-CALDESC:Events for Toastmaster Bob Lloyd
BEGIN:VEVENT
DTSTART;TZID=UTC+0:20181215T083000
DTEND;TZID=UTC+0:20181215T093000
DTSTAMP:20260423T111943
CREATED:20180908T114401Z
LAST-MODIFIED:20180908T114401Z
UID:5518-1544862600-1544866200@www.toastmasterbob.co.uk
SUMMARY:Breakfast with Father Christmas @ Notcutts
DESCRIPTION:Come and have breakfast with Santa Bob @ Notcutts \n
URL:https://www.toastmasterbob.co.uk/event/breakfast-father-christmas-notcutts/
LOCATION:Daniels Road\, Norwich\, Norfolk\, NR4 6QP\, United Kingdom
END:VEVENT
END:VCALENDAR