BEGIN:VCALENDAR
VERSION:2.0
PRODID:-//Toastmaster Bob Lloyd - ECPv4.5.12.3//NONSGML v1.0//EN
CALSCALE:GREGORIAN
METHOD:PUBLISH
X-WR-CALNAME:Toastmaster Bob Lloyd
X-ORIGINAL-URL:https://www.toastmasterbob.co.uk
X-WR-CALDESC:Events for Toastmaster Bob Lloyd
BEGIN:VEVENT
DTSTART;TZID=UTC+0:20171005T180000
DTEND;TZID=UTC+0:20171005T210000
DTSTAMP:20260422T133937
CREATED:20170903T164124Z
LAST-MODIFIED:20170903T164124Z
UID:4837-1507226400-1507237200@www.toastmasterbob.co.uk
SUMMARY:Dunston Hall Showcase evening
DESCRIPTION:Come to meet me along with other recommended suppliers at Dunston Hall Showcase evening. There will be an opportunity to view the various suites and meet the Dunston wedding team. \n
URL:https://www.toastmasterbob.co.uk/event/dunston-hall-showcase-evening-6/
LOCATION:Dunston\, Norwich
END:VEVENT
END:VCALENDAR