BEGIN:VCALENDAR
VERSION:2.0
PRODID:-//Toastmaster Bob Lloyd - ECPv4.5.12.3//NONSGML v1.0//EN
CALSCALE:GREGORIAN
METHOD:PUBLISH
X-WR-CALNAME:Toastmaster Bob Lloyd
X-ORIGINAL-URL:https://www.toastmasterbob.co.uk
X-WR-CALDESC:Events for Toastmaster Bob Lloyd
BEGIN:VEVENT
DTSTART;TZID=UTC+0:20170924T103000
DTEND;TZID=UTC+0:20170924T153000
DTSTAMP:20260422T105102
CREATED:20161230T115040Z
LAST-MODIFIED:20161230T115040Z
UID:1917-1506249000-1506267000@www.toastmasterbob.co.uk
SUMMARY:EDP Wedding show @ Dunston Hall
DESCRIPTION:Come and meet me along with  many other wedding suppliers at the Dunston Hall wedding show organised by the EDP \n
URL:https://www.toastmasterbob.co.uk/event/edp-wedding-show-dunston-hall-4/
LOCATION:Dunston\, Norwich
END:VEVENT
END:VCALENDAR