BEGIN:VCALENDAR
VERSION:2.0
PRODID:-//Toastmaster Bob Lloyd - ECPv4.5.12.3//NONSGML v1.0//EN
CALSCALE:GREGORIAN
METHOD:PUBLISH
X-WR-CALNAME:Toastmaster Bob Lloyd
X-ORIGINAL-URL:https://www.toastmasterbob.co.uk
X-WR-CALDESC:Events for Toastmaster Bob Lloyd
BEGIN:VEVENT
DTSTART;TZID=UTC+0:20220726T120000
DTEND;TZID=UTC+0:20220726T210000
DTSTAMP:20260422T154802
CREATED:20201117T123806Z
LAST-MODIFIED:20201117T123806Z
UID:7025-1658836800-1658869200@www.toastmasterbob.co.uk
SUMMARY:Emma & Mark Wedding @ Hockwold Hall
DESCRIPTION:Honoured to be toastmaster for the wedding of Emma & Mark @ Hockwold Hall \n
URL:https://www.toastmasterbob.co.uk/event/emma-mark-wedding-hockwold-hall/
END:VEVENT
END:VCALENDAR