BEGIN:VCALENDAR
VERSION:2.0
PRODID:-//Toastmaster Bob Lloyd - ECPv4.5.12.3//NONSGML v1.0//EN
CALSCALE:GREGORIAN
METHOD:PUBLISH
X-WR-CALNAME:Toastmaster Bob Lloyd
X-ORIGINAL-URL:https://www.toastmasterbob.co.uk
X-WR-CALDESC:Events for Toastmaster Bob Lloyd
BEGIN:VEVENT
DTSTART;TZID=UTC+0:20181220T093000
DTEND;TZID=UTC+0:20181220T170000
DTSTAMP:20260423T032323
CREATED:20181115T173453Z
LAST-MODIFIED:20181115T173453Z
UID:5563-1545298200-1545325200@www.toastmasterbob.co.uk
SUMMARY:Father Christmas @ Notcutts
DESCRIPTION:Come and see Father Christmas (Santa Bob) @ Notcutts \n
URL:https://www.toastmasterbob.co.uk/event/father-christmas-notcutts-10/
END:VEVENT
END:VCALENDAR