BEGIN:VCALENDAR
VERSION:2.0
PRODID:-//Toastmaster Bob Lloyd - ECPv4.5.12.3//NONSGML v1.0//EN
CALSCALE:GREGORIAN
METHOD:PUBLISH
X-WR-CALNAME:Toastmaster Bob Lloyd
X-ORIGINAL-URL:https://www.toastmasterbob.co.uk
X-WR-CALDESC:Events for Toastmaster Bob Lloyd
BEGIN:VEVENT
DTSTART;TZID=UTC+0:20170929T180000
DTEND;TZID=UTC+0:20170929T220000
DTSTAMP:20260422T121333
CREATED:20170521T190747Z
LAST-MODIFIED:20170521T190747Z
UID:3433-1506708000-1506722400@www.toastmasterbob.co.uk
SUMMARY:Freemen Celebration Feast
DESCRIPTION:Town Crier for the Freemen of the City Feast @ St Andrew’s Hall \n
URL:https://www.toastmasterbob.co.uk/event/freemen-celebration-feast/
END:VEVENT
END:VCALENDAR