BEGIN:VCALENDAR
VERSION:2.0
PRODID:-//Toastmaster Bob Lloyd - ECPv4.5.12.3//NONSGML v1.0//EN
CALSCALE:GREGORIAN
METHOD:PUBLISH
X-WR-CALNAME:Toastmaster Bob Lloyd
X-ORIGINAL-URL:https://www.toastmasterbob.co.uk
X-WR-CALDESC:Events for Toastmaster Bob Lloyd
BEGIN:VEVENT
DTSTART;TZID=UTC+0:20170317T190000
DTEND;TZID=UTC+0:20170317T230000
DTSTAMP:20260423T104102
CREATED:20161228T172608Z
LAST-MODIFIED:20161228T172608Z
UID:1881-1489777200-1489791600@www.toastmasterbob.co.uk
SUMMARY:Norwich Traffic Club Dinner
DESCRIPTION:Norwich Traffic Club Dinner with guest after dinner speaker \n
URL:https://www.toastmasterbob.co.uk/event/norwich-traffic-club-dinner/
LOCATION:Cromer Road\, Norwich\, NR6 6JA
END:VEVENT
END:VCALENDAR