BEGIN:VCALENDAR
VERSION:2.0
PRODID:-//Toastmaster Bob Lloyd - ECPv4.5.12.3//NONSGML v1.0//EN
CALSCALE:GREGORIAN
METHOD:PUBLISH
X-WR-CALNAME:Toastmaster Bob Lloyd
X-ORIGINAL-URL:https://www.toastmasterbob.co.uk
X-WR-CALDESC:Events for Toastmaster Bob Lloyd
BEGIN:VEVENT
DTSTART;TZID=UTC+0:20180414T180000
DTEND;TZID=UTC+0:20180414T230000
DTSTAMP:20260423T041629
CREATED:20171230T201949Z
LAST-MODIFIED:20171230T201949Z
UID:5265-1523728800-1523746800@www.toastmasterbob.co.uk
SUMMARY:Queen's Oak Ladies Festival @ Dunston Hall
DESCRIPTION:Toastmaster duties for the Queen’s Oak Ladies Festival @ Dunston Hall \n
URL:https://www.toastmasterbob.co.uk/event/queens-oak-ladies-festival-dunston-hall/
LOCATION:Dunston\, Norwich
END:VEVENT
END:VCALENDAR