BEGIN:VCALENDAR
VERSION:2.0
PRODID:-//Toastmaster Bob Lloyd - ECPv4.5.12.3//NONSGML v1.0//EN
CALSCALE:GREGORIAN
METHOD:PUBLISH
X-WR-CALNAME:Toastmaster Bob Lloyd
X-ORIGINAL-URL:https://www.toastmasterbob.co.uk
X-WR-CALDESC:Events for Toastmaster Bob Lloyd
BEGIN:VEVENT
DTSTART;TZID=UTC+0:20191117T110000
DTEND;TZID=UTC+0:20191117T163000
DTSTAMP:20260422T231650
CREATED:20181229T185646Z
LAST-MODIFIED:20190911T110541Z
UID:5636-1573988400-1574008200@www.toastmasterbob.co.uk
SUMMARY:Santa Bob arrives @ Notcutts
DESCRIPTION:Come and see me when Santa Bob arrives @ Notcutts in his special red Hummer. After the arrival I will be in my grotto from noon-4.30pm and it will be a first come first served queueing basis for this day only. For other days please book a time slot from the Notcutts website. \n
URL:https://www.toastmasterbob.co.uk/event/santa-arrives-notcutts/
LOCATION:Daniels Road\, Norwich\, Norfolk\, NR4 6QP\, United Kingdom
END:VEVENT
END:VCALENDAR