BEGIN:VCALENDAR
VERSION:2.0
PRODID:-//Toastmaster Bob Lloyd - ECPv4.5.12.3//NONSGML v1.0//EN
CALSCALE:GREGORIAN
METHOD:PUBLISH
X-WR-CALNAME:Toastmaster Bob Lloyd
X-ORIGINAL-URL:https://www.toastmasterbob.co.uk
X-WR-CALDESC:Events for Toastmaster Bob Lloyd
BEGIN:VEVENT
DTSTART;TZID=UTC+0:20221222T090000
DTEND;TZID=UTC+0:20221222T170000
DTSTAMP:20260422T180617
CREATED:20221013T173215Z
LAST-MODIFIED:20221116T142415Z
UID:10060-1671699600-1671728400@www.toastmasterbob.co.uk
SUMMARY:Santa Bob @ Highways
DESCRIPTION:Come and meet me at HIghways garden centre grotto \n
URL:https://www.toastmasterbob.co.uk/event/santa-bob-highways-13/
LOCATION:Loddon Rd\, Norwich NR14 7PW\, Norwich\, NR14 7PW
END:VEVENT
END:VCALENDAR