BEGIN:VCALENDAR
VERSION:2.0
PRODID:-//Toastmaster Bob Lloyd - ECPv4.5.12.3//NONSGML v1.0//EN
CALSCALE:GREGORIAN
METHOD:PUBLISH
X-WR-CALNAME:Toastmaster Bob Lloyd
X-ORIGINAL-URL:https://www.toastmasterbob.co.uk
X-WR-CALDESC:Events for Toastmaster Bob Lloyd
BEGIN:VEVENT
DTSTART;TZID=UTC+0:20221223T090000
DTEND;TZID=UTC+0:20221223T173000
DTSTAMP:20260422T180444
CREATED:20221013T173344Z
LAST-MODIFIED:20221116T142524Z
UID:10062-1671786000-1671816600@www.toastmasterbob.co.uk
SUMMARY:Santa Bob @ Highways
DESCRIPTION:Come and meet me at HIghways garden centre grotto \n
URL:https://www.toastmasterbob.co.uk/event/santa-bob-highways-14/
LOCATION:Loddon Rd\, Norwich NR14 7PW\, Norwich\, NR14 7PW
END:VEVENT
END:VCALENDAR