BEGIN:VCALENDAR
VERSION:2.0
PRODID:-//Toastmaster Bob Lloyd - ECPv4.5.12.3//NONSGML v1.0//EN
CALSCALE:GREGORIAN
METHOD:PUBLISH
X-WR-CALNAME:Toastmaster Bob Lloyd
X-ORIGINAL-URL:https://www.toastmasterbob.co.uk
X-WR-CALDESC:Events for Toastmaster Bob Lloyd
BEGIN:VEVENT
DTSTART;TZID=UTC+0:20221224T090000
DTEND;TZID=UTC+0:20221224T153000
DTSTAMP:20260422T153327
CREATED:20221013T131134Z
LAST-MODIFIED:20221116T142558Z
UID:10044-1671872400-1671895800@www.toastmasterbob.co.uk
SUMMARY:Santa Bob @ Highways
DESCRIPTION:Come a meet me at the Highways garden centre grotto \n
URL:https://www.toastmasterbob.co.uk/event/santa-bob-highways-5/
LOCATION:Loddon Rd\, Norwich NR14 7PW\, Norwich\, NR14 7PW
END:VEVENT
END:VCALENDAR