BEGIN:VCALENDAR
VERSION:2.0
PRODID:-//Toastmaster Bob Lloyd - ECPv4.5.12.3//NONSGML v1.0//EN
CALSCALE:GREGORIAN
METHOD:PUBLISH
X-WR-CALNAME:Toastmaster Bob Lloyd
X-ORIGINAL-URL:https://www.toastmasterbob.co.uk
X-WR-CALDESC:Events for Toastmaster Bob Lloyd
BEGIN:VEVENT
DTSTART;TZID=UTC+0:20241123T100000
DTEND;TZID=UTC+0:20241123T160000
DTSTAMP:20260424T194613
CREATED:20241020T153209Z
LAST-MODIFIED:20241020T153209Z
UID:104588-1732356000-1732377600@www.toastmasterbob.co.uk
SUMMARY:Santa Bob @ Highways Grotto\, Loddon Road NR14 7PW
DESCRIPTION:Come and meet Santa Bob (aka Father Christmas) @Highways Grotto\, Loddon Road NR14 7PW. You MUST tell the elves that you want to see Santa Bob as there are other “Santa’s” on duty at the same time. \n
URL:https://www.toastmasterbob.co.uk/event/santa-bob-highways-grotto-loddon-road-nr14-7pw/
LOCATION:Loddon Rd\, Norwich NR14 7PW\, Norwich\, NR14 7PW
END:VEVENT
END:VCALENDAR