BEGIN:VCALENDAR
VERSION:2.0
PRODID:-//Toastmaster Bob Lloyd - ECPv4.5.12.3//NONSGML v1.0//EN
CALSCALE:GREGORIAN
METHOD:PUBLISH
X-WR-CALNAME:Toastmaster Bob Lloyd
X-ORIGINAL-URL:https://www.toastmasterbob.co.uk
X-WR-CALDESC:Events for Toastmaster Bob Lloyd
BEGIN:VEVENT
DTSTART;TZID=UTC+0:20171126T120000
DTEND;TZID=UTC+0:20171126T163000
DTSTAMP:20260422T180010
CREATED:20170917T143609Z
LAST-MODIFIED:20170917T143609Z
UID:5006-1511697600-1511713800@www.toastmasterbob.co.uk
SUMMARY:Santa Bob & Notcutts Grotto
DESCRIPTION:I will be appearing at the Notcutts grotto today from Noon until 4.30pm. To book\, visit their website www.notcutts.co.uk \n
URL:https://www.toastmasterbob.co.uk/event/santa-bob-notcutts-grotto-2/
LOCATION:Daniels Road\, Norwich\, Norfolk\, NR4 6QP\, United Kingdom
END:VEVENT
END:VCALENDAR