BEGIN:VCALENDAR
VERSION:2.0
PRODID:-//Toastmaster Bob Lloyd - ECPv4.5.12.3//NONSGML v1.0//EN
CALSCALE:GREGORIAN
METHOD:PUBLISH
X-WR-CALNAME:Toastmaster Bob Lloyd
X-ORIGINAL-URL:https://www.toastmasterbob.co.uk
X-WR-CALDESC:Events for Toastmaster Bob Lloyd
BEGIN:VEVENT
DTSTART;TZID=UTC+0:20181225T100000
DTEND;TZID=UTC+0:20181225T110000
DTSTAMP:20260422T214839
CREATED:20180525T190333Z
LAST-MODIFIED:20180908T113759Z
UID:5415-1545732000-1545735600@www.toastmasterbob.co.uk
SUMMARY:Father Christmas at Sprowston Manor
DESCRIPTION:Private booking for Santa Bob at Sprowston Manor. \n
URL:https://www.toastmasterbob.co.uk/event/santa-sprowston-manor/
END:VEVENT
END:VCALENDAR