BEGIN:VCALENDAR
VERSION:2.0
PRODID:-//Toastmaster Bob Lloyd - ECPv4.5.12.3//NONSGML v1.0//EN
CALSCALE:GREGORIAN
METHOD:PUBLISH
X-WR-CALNAME:Toastmaster Bob Lloyd
X-ORIGINAL-URL:https://www.toastmasterbob.co.uk
X-WR-CALDESC:Events for Toastmaster Bob Lloyd
BEGIN:VEVENT
DTSTART;TZID=UTC+0:20181217T170000
DTEND;TZID=UTC+0:20181217T180000
DTSTAMP:20260423T063710
CREATED:20181115T173057Z
LAST-MODIFIED:20181115T173057Z
UID:5559-1545066000-1545069600@www.toastmasterbob.co.uk
SUMMARY:Tea with Father Christmas @ Notcutts
DESCRIPTION:Come and have tea with father Christmas @ Notcutts \n
URL:https://www.toastmasterbob.co.uk/event/tea-father-christmas-notcutts/
END:VEVENT
END:VCALENDAR