BEGIN:VCALENDAR
VERSION:2.0
PRODID:-//Toastmaster Bob Lloyd - ECPv4.5.12.3//NONSGML v1.0//EN
CALSCALE:GREGORIAN
METHOD:PUBLISH
X-WR-CALNAME:Toastmaster Bob Lloyd
X-ORIGINAL-URL:https://www.toastmasterbob.co.uk
X-WR-CALDESC:Events for Toastmaster Bob Lloyd
BEGIN:VEVENT
DTSTART;TZID=UTC+0:20220401T130000
DTEND;TZID=UTC+0:20220401T210000
DTSTAMP:20260422T165254
CREATED:20220106T204526Z
LAST-MODIFIED:20220106T204526Z
UID:8914-1648818000-1648846800@www.toastmasterbob.co.uk
SUMMARY:Wedding - Emma & Steve @ Ivy House
DESCRIPTION:Pleased to be toastmaster for Emma & Steve @ Ivy House \n
URL:https://www.toastmasterbob.co.uk/event/wedding-emma-steve-ivy-house/
LOCATION:Oulton Broad\, NR33 8HY\, United Kingdom
END:VEVENT
END:VCALENDAR