BEGIN:VCALENDAR
VERSION:2.0
PRODID:-//Toastmaster Bob Lloyd - ECPv4.5.12.3//NONSGML v1.0//EN
CALSCALE:GREGORIAN
METHOD:PUBLISH
X-WR-CALNAME:Toastmaster Bob Lloyd
X-ORIGINAL-URL:https://www.toastmasterbob.co.uk
X-WR-CALDESC:Events for Toastmaster Bob Lloyd
BEGIN:VEVENT
DTSTART;TZID=UTC+0:20220716T120000
DTEND;TZID=UTC+0:20220716T200000
DTSTAMP:20260422T164148
CREATED:20220307T122040Z
LAST-MODIFIED:20220307T122040Z
UID:9119-1657972800-1658001600@www.toastmasterbob.co.uk
SUMMARY:Wedding - Frankie & Steve @ Hevingham
DESCRIPTION:Honoured to be toastmaster for Frankie & Steve’s wedding celebrations at Hevingham \n
URL:https://www.toastmasterbob.co.uk/event/wedding-frankie-steve-hevingham/
END:VEVENT
END:VCALENDAR