BEGIN:VCALENDAR
VERSION:2.0
PRODID:-//Toastmaster Bob Lloyd - ECPv4.5.12.3//NONSGML v1.0//EN
CALSCALE:GREGORIAN
METHOD:PUBLISH
X-WR-CALNAME:Toastmaster Bob Lloyd
X-ORIGINAL-URL:https://www.toastmasterbob.co.uk
X-WR-CALDESC:Events for Toastmaster Bob Lloyd
BEGIN:VEVENT
DTSTART;TZID=UTC+0:20170319T110000
DTEND;TZID=UTC+0:20170319T160000
DTSTAMP:20260423T115608
CREATED:20161112T210657Z
LAST-MODIFIED:20170110T094337Z
UID:1715-1489921200-1489939200@www.toastmasterbob.co.uk
SUMMARY:Wedding Guide show at St Andrew's Hall
DESCRIPTION:Come and meet toastmaster bob along with many other suppliers at the wedding guide show at St Andrew’s hall. There are fashion shows at 12.30 and 2.30pm. \n
URL:https://www.toastmasterbob.co.uk/event/wedding-guide-show-st-andrews-hall/
END:VEVENT
END:VCALENDAR