BEGIN:VCALENDAR
VERSION:2.0
PRODID:-//Toastmaster Bob Lloyd - ECPv4.5.12.3//NONSGML v1.0//EN
CALSCALE:GREGORIAN
METHOD:PUBLISH
X-WR-CALNAME:Toastmaster Bob Lloyd
X-ORIGINAL-URL:https://www.toastmasterbob.co.uk
X-WR-CALDESC:Events for Toastmaster Bob Lloyd
BEGIN:VEVENT
DTSTART;TZID=UTC+0:20221102T103000
DTEND;TZID=UTC+0:20221102T200000
DTSTAMP:20260422T135308
CREATED:20221010T155105Z
LAST-MODIFIED:20221010T155105Z
UID:10024-1667385000-1667419200@www.toastmasterbob.co.uk
SUMMARY:Wedding - Jessica & Adam @ Assembly House Norwich
DESCRIPTION:Honoured to be toastmaster for the wedding of Jessica & Adam @ The Assembly House Norwich \n
URL:https://www.toastmasterbob.co.uk/event/wedding-jessica-adam-assembly-house-norwich/
END:VEVENT
END:VCALENDAR