BEGIN:VCALENDAR
VERSION:2.0
PRODID:-//Toastmaster Bob Lloyd - ECPv4.5.12.3//NONSGML v1.0//EN
CALSCALE:GREGORIAN
METHOD:PUBLISH
X-WR-CALNAME:Toastmaster Bob Lloyd
X-ORIGINAL-URL:https://www.toastmasterbob.co.uk
X-WR-CALDESC:Events for Toastmaster Bob Lloyd
BEGIN:VEVENT
DTSTART;TZID=UTC+0:20180616T120000
DTEND;TZID=UTC+0:20180616T203000
DTSTAMP:20260423T012937
CREATED:20180114T115416Z
LAST-MODIFIED:20180114T115416Z
UID:5291-1529150400-1529181000@www.toastmasterbob.co.uk
SUMMARY:Wedding - Katie & Paul @ Glebe Farm Barn
DESCRIPTION:Pleased to be wedding toastmaster for Katie & Paul @ Glebe Farm Barn  \n
URL:https://www.toastmasterbob.co.uk/event/wedding-katie-paul-glebe-farm-barn/
END:VEVENT
END:VCALENDAR