BEGIN:VCALENDAR
VERSION:2.0
PRODID:-//Toastmaster Bob Lloyd - ECPv4.5.12.3//NONSGML v1.0//EN
CALSCALE:GREGORIAN
METHOD:PUBLISH
X-WR-CALNAME:Toastmaster Bob Lloyd
X-ORIGINAL-URL:https://www.toastmasterbob.co.uk
X-WR-CALDESC:Events for Toastmaster Bob Lloyd
BEGIN:VEVENT
DTSTART;TZID=UTC+0:20160604T120000
DTEND;TZID=UTC+0:20160604T200000
DTSTAMP:20260423T071635
CREATED:20160520T163458Z
LAST-MODIFIED:20160520T163458Z
UID:1493-1465041600-1465070400@www.toastmasterbob.co.uk
SUMMARY:Wedding - Laura & Matthew @ Hales Hall
DESCRIPTION:Toastmaster for Laura & Matthew @ their Hales Hall wedding. \n
URL:https://www.toastmasterbob.co.uk/event/wedding-laura-matthew-hales-hall/
END:VEVENT
END:VCALENDAR