BEGIN:VCALENDAR
VERSION:2.0
PRODID:-//Toastmaster Bob Lloyd - ECPv4.5.12.3//NONSGML v1.0//EN
CALSCALE:GREGORIAN
METHOD:PUBLISH
X-WR-CALNAME:Toastmaster Bob Lloyd
X-ORIGINAL-URL:https://www.toastmasterbob.co.uk
X-WR-CALDESC:Events for Toastmaster Bob Lloyd
BEGIN:VEVENT
DTSTART;TZID=UTC+0:20170729T120000
DTEND;TZID=UTC+0:20170729T200000
DTSTAMP:20260420T125416
CREATED:20161230T113456Z
LAST-MODIFIED:20161230T113456Z
UID:1905-1501329600-1501358400@www.toastmasterbob.co.uk
SUMMARY:Wedding - Nigel & Kerri @ Dunston Hall
DESCRIPTION:Looking forward to being toastmaster for Nigel & Kerri’s wedding at Dunston Hall \n
URL:https://www.toastmasterbob.co.uk/event/wedding-nigel-kerri-dunston-hall/
LOCATION:Dunston\, Norwich
END:VEVENT
END:VCALENDAR