BEGIN:VCALENDAR
VERSION:2.0
PRODID:-//Toastmaster Bob Lloyd - ECPv4.5.12.3//NONSGML v1.0//EN
CALSCALE:GREGORIAN
METHOD:PUBLISH
X-WR-CALNAME:Toastmaster Bob Lloyd
X-ORIGINAL-URL:https://www.toastmasterbob.co.uk
X-WR-CALDESC:Events for Toastmaster Bob Lloyd
BEGIN:VEVENT
DTSTART;TZID=UTC+0:20220319T113000
DTEND;TZID=UTC+0:20220319T210000
DTSTAMP:20260422T165319
CREATED:20220315T120503Z
LAST-MODIFIED:20220315T120503Z
UID:9170-1647689400-1647723600@www.toastmasterbob.co.uk
SUMMARY:Wedding - Sarah & Daniel @ Victoria Hotel
DESCRIPTION:Toastmaster for the wedding of  Sarah & Daniel @ Victoria Hotel  \n
URL:https://www.toastmasterbob.co.uk/event/wedding-sarah-daniel-victoria-hotel/
END:VEVENT
END:VCALENDAR