BEGIN:VCALENDAR
VERSION:2.0
PRODID:-//Toastmaster Bob Lloyd - ECPv4.5.12.3//NONSGML v1.0//EN
CALSCALE:GREGORIAN
METHOD:PUBLISH
X-WR-CALNAME:Toastmaster Bob Lloyd
X-ORIGINAL-URL:https://www.toastmasterbob.co.uk
X-WR-CALDESC:Events for Toastmaster Bob Lloyd
BEGIN:VEVENT
DTSTART;TZID=UTC+0:20160313T110000
DTEND;TZID=UTC+0:20160313T150000
DTSTAMP:20260423T111500
CREATED:20160208T093434Z
LAST-MODIFIED:20160208T093843Z
UID:1421-1457866800-1457881200@www.toastmasterbob.co.uk
SUMMARY:Wedding show at Elm Farm
DESCRIPTION:COme to meet me at the wedding show being held at Elm Farm\, Horsham St. Faith. \n
URL:https://www.toastmasterbob.co.uk/event/wedding-show-elm-farm/
LOCATION:Horsham St Faith
END:VEVENT
END:VCALENDAR